BEGIN:VCALENDAR
VERSION:2.0
PRODID:-//https://www.ish2025.zielwasser.design///NONSGML kigkonsult.se iCalcreator 2.10.15//
METHOD:PUBLISH
BEGIN:VEVENT
UID:20260420T130235CEST-3491pfo028@https://www.ish2025.zielwasser.design/
DTSTAMP:20260420T110235Z
DESCRIPTION: https://www.ish2025.zielwasser.design/index.php/events-list/ev
 ents-calendar/event/1-xxiii-congress-of-the-international-society-of-hypno
 sis-connecting-minds-and-integrating-resources
DTSTART:20270927T080000Z
DTEND:20271003T160000Z
LOCATION:84047 Paestum SA\, Italy (84047\, Paestum\, Capaccio Paestum\, Sal
 erno\, Campania)
SUMMARY:XXIII Congress of the International Society of Hypnosis “Connecting
  Minds and Integrating Resources
URL:https://www.ish2025.zielwasser.design/index.php/events-list/events-cale
 ndar/event/1-xxiii-congress-of-the-international-society-of-hypnosis-conne
 cting-minds-and-integrating-resources
END:VEVENT
END:VCALENDAR
